BEGIN:VCALENDAR
VERSION:2.0
PRODID:-//Seward Community Co-op - ECPv6.15.20//NONSGML v1.0//EN
CALSCALE:GREGORIAN
METHOD:PUBLISH
X-WR-CALNAME:Seward Community Co-op
X-ORIGINAL-URL:https://seward.coop
X-WR-CALDESC:Events for Seward Community Co-op
REFRESH-INTERVAL;VALUE=DURATION:PT1H
X-Robots-Tag:noindex
X-PUBLISHED-TTL:PT1H
BEGIN:VTIMEZONE
TZID:America/Chicago
BEGIN:DAYLIGHT
TZOFFSETFROM:-0600
TZOFFSETTO:-0500
TZNAME:CDT
DTSTART:20180311T080000
END:DAYLIGHT
BEGIN:STANDARD
TZOFFSETFROM:-0500
TZOFFSETTO:-0600
TZNAME:CST
DTSTART:20181104T070000
END:STANDARD
BEGIN:DAYLIGHT
TZOFFSETFROM:-0600
TZOFFSETTO:-0500
TZNAME:CDT
DTSTART:20190310T080000
END:DAYLIGHT
BEGIN:STANDARD
TZOFFSETFROM:-0500
TZOFFSETTO:-0600
TZNAME:CST
DTSTART:20191103T070000
END:STANDARD
BEGIN:DAYLIGHT
TZOFFSETFROM:-0600
TZOFFSETTO:-0500
TZNAME:CDT
DTSTART:20200308T080000
END:DAYLIGHT
BEGIN:STANDARD
TZOFFSETFROM:-0500
TZOFFSETTO:-0600
TZNAME:CST
DTSTART:20201101T070000
END:STANDARD
BEGIN:DAYLIGHT
TZOFFSETFROM:-0600
TZOFFSETTO:-0500
TZNAME:CDT
DTSTART:20210314T080000
END:DAYLIGHT
BEGIN:STANDARD
TZOFFSETFROM:-0500
TZOFFSETTO:-0600
TZNAME:CST
DTSTART:20211107T070000
END:STANDARD
END:VTIMEZONE
BEGIN:VEVENT
DTSTART;TZID=America/Chicago:20200929T180000
DTEND;TZID=America/Chicago:20200929T203000
DTSTAMP:20260419T132843
CREATED:20200826T214744Z
LAST-MODIFIED:20200922T234329Z
UID:20016842-1601402400-1601411400@seward.coop
SUMMARY:
DESCRIPTION:Meetings of Seward Co-op’s Board of Directors are open to any co-op owner. The board typically meets 9-10 times a year on the last Tuesday of the month\, at 6:15 p.m. The next board meeting is virtual and will be held Tuesday\, Sept. 29; it will include a 10-minute Co-op Owners Comment Period. The board of directors planned this in response to community members’ requests to address the board. Individual time allotment is dependent on number of owners who wish to speak. Agenda is available here. Co-op owners are welcome to observe and an advance RSVP is politely requested. To indicate your intention to attend and/or participate in the Co-op Owners Comment Period\, please email board@seward.coop prior to Sept. 29. This will allow us to provide you the virtual meeting link. \nSeward Co-op’s Board of Directors is comprised of nine elected co-op owners who serve the co-op for three-year terms. The board typically meets 9-10 times a year on the last Tuesday of the month\, at 6:15 p.m. The co-op’s board of directors appreciates hearing from you! They are available to answer questions and provide information about cooperative governance.
URL:https://seward.coop/event/20016842/
CATEGORIES:Board Meeting,Board of Directors
ATTACH;FMTTYPE=image/jpeg:https://seward.coop/wp-content/uploads/BOD_Meeting_square.jpg
END:VEVENT
BEGIN:VEVENT
DTSTART;TZID=America/Chicago:20200825T180000
DTEND;TZID=America/Chicago:20200825T203000
DTSTAMP:20260419T132843
CREATED:20200731T000039Z
LAST-MODIFIED:20200819T002258Z
UID:20015357-1598378400-1598387400@seward.coop
SUMMARY:Board of Directors August Meeting
DESCRIPTION:Meetings of Seward Co-op’s Board of Directors are open to any co-op owner. The board typically meets 9-10 times a year on the last Tuesday of the month\, at 6:15 p.m. The next board meeting is virtual and will be held Tuesday\, Aug. 25. The meeting will include a 10-minute Co-op Owners Comment Period. Individual time allotment is dependent on number of owners who wish to speak. The agenda is available here; your advance RSVP is politely requested. To indicate your intention to attend and/or participate in the Co-op Owners Comment Period\, please email board@seward.coop prior to Aug. 25. This will allow us to provide you the virtual meeting link. \nSeward Co-op’s Board of Directors is comprised of nine elected co-op owners who serve the co-op for three-year terms. The board typically meets 9-10 times a year on the last Tuesday of the month\, at 6:15 p.m. The co-op’s board of directors appreciates hearing from you! They are available to answer questions and provide information about cooperative governance.
URL:https://seward.coop/event/board-of-directors-august-meeting/
CATEGORIES:Board Meeting,Board of Directors
ATTACH;FMTTYPE=image/jpeg:https://seward.coop/wp-content/uploads/BOD_Meeting_square.jpg
END:VEVENT
BEGIN:VEVENT
DTSTART;TZID=America/Chicago:20200804T170000
DTEND;TZID=America/Chicago:20200804T180000
DTSTAMP:20260419T132843
CREATED:20200729T224857Z
LAST-MODIFIED:20200729T224857Z
UID:20015325-1596560400-1596564000@seward.coop
SUMMARY:Conversations with the Board
DESCRIPTION:Join our board on Tuesday\, August 4 for a virtual listening session at 5 p.m. This time of transformation is an important moment to be together as a community in hope and cooperation. We also hope to reflect on our identity and future work as a community cooperative. Please join us and share your thoughts; RSVP to board@seward.coop.
URL:https://seward.coop/event/conversations-with-the-board-2/
CATEGORIES:Board Meeting
ATTACH;FMTTYPE=image/png:https://seward.coop/wp-content/uploads/Seward-Social-Square-2.png
END:VEVENT
BEGIN:VEVENT
DTSTART;TZID=America/Chicago:20200730T190000
DTEND;TZID=America/Chicago:20200730T200000
DTSTAMP:20260419T132843
CREATED:20200630T192555Z
LAST-MODIFIED:20200729T230648Z
UID:20009426-1596135600-1596139200@seward.coop
SUMMARY:Conversations with the Board
DESCRIPTION:Join our board on Thursday\, July 30 for a virtual listening session at 7 p.m. This time of transformation is an important moment to be together as a community in hope and cooperation. We also hope to reflect on our identity and future work as a community cooperative. Please join us and share your thoughts; RSVP to board@seward.coop.
URL:https://seward.coop/event/conversations-with-the-board/
CATEGORIES:Board of Directors
ATTACH;FMTTYPE=image/png:https://seward.coop/wp-content/uploads/Seward-Social-Square-2.png
END:VEVENT
BEGIN:VEVENT
DTSTART;TZID=America/Chicago:20200728T180000
DTEND;TZID=America/Chicago:20200728T203000
DTSTAMP:20260419T132843
CREATED:20200701T193837Z
LAST-MODIFIED:20200722T003656Z
UID:20009485-1595959200-1595968200@seward.coop
SUMMARY:Board of Directors July Meeting
DESCRIPTION:Meetings of Seward Co-op’s Board of Directors are open to any co-op owner. The next board meeting is virtual and will be held Tuesday\, July 28 and the agenda is available here. To indicate your intention to attend\, please email board@seward.coop prior to July 28. This will allow us to provide you the virtual meeting link. \nSeward Co-op’s Board of Directors is comprised of nine elected co-op owners who serve the co-op for three-year terms. The board typically meets 9-10 times a year on the last Tuesday of the month\, at 6:15 p.m. The co-op’s board of directors appreciates hearing from you! They are available to answer questions and provide information about cooperative governance.
URL:https://seward.coop/event/board-of-directors-july-meeting/
CATEGORIES:Board Meeting,Board of Directors
ATTACH;FMTTYPE=image/jpeg:https://seward.coop/wp-content/uploads/BOD_Meeting_square.jpg
END:VEVENT
BEGIN:VEVENT
DTSTART;TZID=America/Chicago:20200707T170000
DTEND;TZID=America/Chicago:20200707T180000
DTSTAMP:20260419T132843
CREATED:20200608T223450Z
LAST-MODIFIED:20200630T174952Z
UID:20008750-1594141200-1594144800@seward.coop
SUMMARY:Conversations with the Board
DESCRIPTION:Join our board on Tuesday\, July 7 for a virtual listening session at 5 p.m. This time of transformation is an important moment to be together as a community in hope and cooperation. We also hope to reflect on our identity and future work as a community cooperative. The July 7th listening session will be hosted by board members Shiranthi Goonathilaka and Sally Nixon. Please join us and share your thoughts; RSVP to board@seward.coop.
URL:https://seward.coop/event/virtual-listening-session-with-the-board-of-directors-3/
CATEGORIES:Board of Directors
ATTACH;FMTTYPE=image/jpeg:https://seward.coop/wp-content/uploads/BOD-listening_july-all_enews.jpg
END:VEVENT
BEGIN:VEVENT
DTSTART;TZID=America/Chicago:20200702T190000
DTEND;TZID=America/Chicago:20200702T200000
DTSTAMP:20260419T132843
CREATED:20200608T223012Z
LAST-MODIFIED:20200630T175107Z
UID:20008748-1593716400-1593720000@seward.coop
SUMMARY:Conversations with the Board
DESCRIPTION:Join our board on Thursday\, July 2 for a virtual listening session at 7 p.m. This time of transformation is an important moment to be together as a community in hope and cooperation. We also hope to reflect on our identity and future work as a community cooperative. The July 2nd listening session will be hosted by board members LaDonna Sanders Redmond and Roderick McCulloch. Please join us and share your thoughts; RSVP to board@seward.coop.
URL:https://seward.coop/event/virtual-listening-session-with-the-board-of-directors-2/
CATEGORIES:Board of Directors
ATTACH;FMTTYPE=image/jpeg:https://seward.coop/wp-content/uploads/BOD-listening_july-all_enews.jpg
END:VEVENT
BEGIN:VEVENT
DTSTART;TZID=America/Chicago:20200630T180000
DTEND;TZID=America/Chicago:20200630T203000
DTSTAMP:20260419T132843
CREATED:20200608T220852Z
LAST-MODIFIED:20200624T144219Z
UID:20008746-1593540000-1593549000@seward.coop
SUMMARY:Board of Directors June Meeting
DESCRIPTION:Meetings of Seward Co-op’s Board of Directors are open to any co-op owner. The next board meeting is virtual and will be held Tuesday\, June 30. The meeting will include a 10-minute Co-op Owners Comment Period; individual time allotment is dependent on the number of owners who wish to speak. To indicate your intention to attend and/or participate in the Co-op Owners Comment Period\, please email board@seward.coop prior to June 30. This will allow us to provide you the virtual meeting link. \nSeward Co-op’s Board of Directors is comprised of nine elected co-op owners who serve the co-op for three-year terms. The board typically meets 9-10 times a year on the last Tuesday of the month\, at 6:15 p.m. The co-op’s board of directors appreciates hearing from you! They are available to answer questions and provide information about cooperative governance.
URL:https://seward.coop/event/board-of-directors-june-meeting/
CATEGORIES:Board Meeting,Board of Directors
ATTACH;FMTTYPE=image/jpeg:https://seward.coop/wp-content/uploads/BOD_Meeting_square.jpg
END:VEVENT
BEGIN:VEVENT
DTSTART;TZID=America/Chicago:20200528T190000
DTEND;TZID=America/Chicago:20200528T200000
DTSTAMP:20260419T132843
CREATED:20200512T222105Z
LAST-MODIFIED:20200528T174722Z
UID:20007586-1590692400-1590696000@seward.coop
SUMMARY:Virtual Listening Session with the Board of Directors
DESCRIPTION:Join our board this evening for a virtual listening session at 7 p.m. This time of crisis\, particularly in south Minneapolis\, is an important moment to be together as a community in hope and cooperation. We also hope to reflect on our identity and future work as a community cooperative.  Tonight’s listening session will be hosted by Seward Co-op board members.  Please join us and share your thoughts. . This evening\, Thursday May 28\, from 7–8 p.m. Please RSVP to board@seward.coop.
URL:https://seward.coop/event/virtual-listening-session-with-the-board-of-directors/
CATEGORIES:Board Meeting,Board of Directors
ATTACH;FMTTYPE=image/jpeg:https://seward.coop/wp-content/uploads/Virtual-Listening-Session_square-1.jpg
END:VEVENT
BEGIN:VEVENT
DTSTART;TZID=America/Chicago:20200526T180000
DTEND;TZID=America/Chicago:20200526T203000
DTSTAMP:20260419T132843
CREATED:20200511T200424Z
LAST-MODIFIED:20200521T152117Z
UID:20007461-1590516000-1590525000@seward.coop
SUMMARY:Board of Directors May Meeting
DESCRIPTION:Meetings of Seward Co-op’s Board of Directors are open to any co-op owner. The next board meeting is Tuesday\, May 26\, at 6 p.m. Agenda is available here. Co-op owners are welcome to observe; your advance RSVP is politely requested. The May 26 meeting will include a 10-minute Co-op Owners Comment Period. The board of directors planned this in response to community members’ requests to address the board. Individual time allotment is dependent on number of owners who wish to speak. To indicate your intention to attend and/or participate in the Co-op Owners Comment Period\, please email board@seward.coop prior to May 26. This will allow us to provide you the virtual meeting link. \nSeward Co-op’s Board of Directors is comprised of nine elected co-op owners who serve the co-op for three-year terms. The board typically meets 9-10 times a year on the last Tuesday of the month\, at 6:15 p.m. The co-op’s board of directors appreciates hearing from you! They are available to answer questions and provide information about cooperative governance.
URL:https://seward.coop/event/board-of-directors-may-meeting/
CATEGORIES:Board Meeting,Board of Directors
ATTACH;FMTTYPE=image/jpeg:https://seward.coop/wp-content/uploads/Board-of-directors-meeting_blur-scaled.jpg
END:VEVENT
BEGIN:VEVENT
DTSTART;TZID=America/Chicago:20200428T180000
DTEND;TZID=America/Chicago:20200428T203000
DTSTAMP:20260419T132843
CREATED:20200422T234214Z
LAST-MODIFIED:20200422T234554Z
UID:20005828-1588096800-1588105800@seward.coop
SUMMARY:Board of Directors April Meeting
DESCRIPTION:Meetings of Seward Co-op’s Board of Directors are open to any co-op owner. The next board meeting is Tuesday\, April 28\, at 6 p.m. An agenda is here. Co-op owners are welcome to observe; your advance RSVP is politely requested. Please email board@seward.coop in advance of the meeting to indicate your intention to attend. \nThe April 28 meeting will include a 20-minute Co-op Owners Comment Period. The board of directors planned this in response to community members’ requests to address the board. Individual time allotment is dependent on number of owners who wish to speak. To attend and/or to participate in the Co-op Owners Comment Period\, please email board@seward.coop prior to April 28. This will allow us to provide you the virtual meeting link. \nSeward Co-op’s Board of Directors is comprised of nine elected co-op owners who serve the co-op for three-year terms. The board typically meets 9-10 times a year on the last Tuesday of the month\, at 6:15 p.m. The co-op’s board of directors appreciates hearing from you! They are available to answer questions and provide information about cooperative governance.
URL:https://seward.coop/event/board-of-directors-april-meeting/
CATEGORIES:Board Meeting
ATTACH;FMTTYPE=image/jpeg:https://seward.coop/wp-content/uploads/Website-Event_Board-of-directors-meeting.jpg
END:VEVENT
BEGIN:VEVENT
DTSTART;TZID=America/Chicago:20200401T180000
DTEND;TZID=America/Chicago:20200401T193000
DTSTAMP:20260419T132843
CREATED:20200328T205318Z
LAST-MODIFIED:20200328T211101Z
UID:20003747-1585764000-1585769400@seward.coop
SUMMARY:Community Listening Session with Board of Directors
DESCRIPTION:The board is working hard to figure out what is best for the long-term future of our co-op in such unprecedented times. We appreciate your understanding that holding our March meeting in executive session will be most helpful for us to do our work in critical times. \nWe have scheduled a virtual listening session with Seward Co-op owners on Wednesday\, April 1 from 6–7:30 p.m. Please email your name and co-op owner number to board@seward.coop\, in advance\, to indicate your intention to attend. This will allow us to provide you the virtual meeting link. \nPlease stay connected with what is happening at the co-op through our coronavirus webpage\, social media and e-newsletters.
URL:https://seward.coop/event/community-listening-session-with-board-of-directors/
CATEGORIES:Board Meeting
END:VEVENT
BEGIN:VEVENT
DTSTART;TZID=America/Chicago:20200331T181500
DTEND;TZID=America/Chicago:20200331T203000
DTSTAMP:20260419T132843
CREATED:20200207T180546Z
LAST-MODIFIED:20200328T211614Z
UID:20003045-1585678500-1585686600@seward.coop
SUMMARY:Board of Directors March Meeting
DESCRIPTION:We hope you’re all safe and well. The March 31 meeting of Seward Co-op’s Board of Directors will be held remotely and entirely in executive session. This is due to the co-op’s priority of practicing social distancing\, and the board’s need to learn about and discuss impacts of the COVID-19 pandemic on our cooperative business. As the board of the co-op\, we understand that Seward Co-op owners may have questions and concerns at this time\, and we do want to be connected with you. The board is working hard to figure out what is best for the long-term future of our co-op in such unprecedented times. \nCommunity Listening Session with Seward Co-op Board on Wednesday\, April 1\nWe appreciate your understanding that holding our board meeting this month in executive session will be most helpful for us to do our work in critical times. We have scheduled a virtual listening session on Wednesday\, April 1 from 6–7:30 p.m. \nPlease stay connected with what is happening at the co-op through our coronavirus webpage\, social media and e-newsletters..
URL:https://seward.coop/event/board-of-directors-march-meeting/
LOCATION:MN\, United States
CATEGORIES:Board Meeting
ATTACH;FMTTYPE=image/jpeg:https://seward.coop/wp-content/uploads/Website-Event_Board-of-directors-meeting.jpg
END:VEVENT
BEGIN:VEVENT
DTSTART;TZID=America/Chicago:20200128T180000
DTEND;TZID=America/Chicago:20200128T203000
DTSTAMP:20260419T132843
CREATED:20191030T163830Z
LAST-MODIFIED:20200121T233050Z
UID:20001848-1580234400-1580243400@seward.coop
SUMMARY:Board of Directors January Meeting
DESCRIPTION:Meetings of Seward Co-op’s Board of Directors are open to any co-op owner. Please email board@seward.coop in advance of the meeting to indicate your intention to attend. This will allow us to notify you in the event of scheduling changes. The first regular board meeting of 2020 is Tuesday\, Jan. 28\, at 6:15 p.m. at the Creamery\, 2601 E. Franklin Ave. Co-op owners are welcome to observe; your advance RSVP is politely requested. An agenda is here. \nThe board has allocated time during the Jan. 28 meeting for a Hopes and Dreams discussion with guests. Directors intend to prepare themselves for an upcoming board retreat\, and they invite you to come to share your Hopes and Dreams for Seward Co-op. A 10-minute co-op owners comment period will follow\, and individual time allotment is dependent on number of owners who wish to speak. To indicate your intention to attend and participate in the discussion and/or comment period\, please email board@seward.coop prior to Jan. 28. \nSeward Co-op’s Board of Directors is comprised of nine elected co-op owners who serve the co-op for three-year terms. The board typically meets 9-10 times a year on the last Tuesday of the month\, at 6:15 p.m. The co-op’s board of directors appreciates hearing from you! They are available to answer questions and provide information about cooperative governance.
URL:https://seward.coop/event/board-of-directors-january-meeting/
CATEGORIES:Board Meeting
ATTACH;FMTTYPE=image/jpeg:https://seward.coop/wp-content/uploads/Website-Event_Board-of-directors-meeting.jpg
END:VEVENT
BEGIN:VEVENT
DTSTART;TZID=America/Chicago:20191126T180000
DTEND;TZID=America/Chicago:20191126T203000
DTSTAMP:20260419T132843
CREATED:20191030T163004Z
LAST-MODIFIED:20191120T184216Z
UID:20001843-1574791200-1574800200@seward.coop
SUMMARY:Board of Directors November Meeting
DESCRIPTION:Meetings of Seward Co-op’s Board of Directors are open to any co-op owner. Please email board@seward.coop in advance of the meeting to indicate your intention to attend. This will allow us to notify you in the event of scheduling changes. The next regular board meeting is Tuesday\, Nov. 26\, at 6:15 p.m. at the Creamery\, 2601 E. Franklin Ave. Agenda is here. Co-op owners are welcome to observe; your advance RSVP is politely requested. \nSeward Co-op’s Board of Directors is comprised of nine elected co-op owners who serve the co-op for three-year terms. The board typically meets 9-10 times a year on the last Tuesday of the month\, at 6:15 p.m. The co-op’s board of directors appreciates hearing from you! They are available to answer questions and provide information about cooperative governance.
URL:https://seward.coop/event/board-of-directors-meeting/
CATEGORIES:Board Meeting
ATTACH;FMTTYPE=image/jpeg:https://seward.coop/wp-content/uploads/Website-Event_Board-of-directors-meeting.jpg
END:VEVENT
END:VCALENDAR