BEGIN:VCALENDAR
VERSION:2.0
PRODID:-//Seward Community Co-op - ECPv6.15.20//NONSGML v1.0//EN
CALSCALE:GREGORIAN
METHOD:PUBLISH
X-WR-CALNAME:Seward Community Co-op
X-ORIGINAL-URL:https://seward.coop
X-WR-CALDESC:Events for Seward Community Co-op
REFRESH-INTERVAL;VALUE=DURATION:PT1H
X-Robots-Tag:noindex
X-PUBLISHED-TTL:PT1H
BEGIN:VTIMEZONE
TZID:America/Chicago
BEGIN:DAYLIGHT
TZOFFSETFROM:-0600
TZOFFSETTO:-0500
TZNAME:CDT
DTSTART:20240310T080000
END:DAYLIGHT
BEGIN:STANDARD
TZOFFSETFROM:-0500
TZOFFSETTO:-0600
TZNAME:CST
DTSTART:20241103T070000
END:STANDARD
BEGIN:DAYLIGHT
TZOFFSETFROM:-0600
TZOFFSETTO:-0500
TZNAME:CDT
DTSTART:20250309T080000
END:DAYLIGHT
BEGIN:STANDARD
TZOFFSETFROM:-0500
TZOFFSETTO:-0600
TZNAME:CST
DTSTART:20251102T070000
END:STANDARD
BEGIN:DAYLIGHT
TZOFFSETFROM:-0600
TZOFFSETTO:-0500
TZNAME:CDT
DTSTART:20260308T080000
END:DAYLIGHT
BEGIN:STANDARD
TZOFFSETFROM:-0500
TZOFFSETTO:-0600
TZNAME:CST
DTSTART:20261101T070000
END:STANDARD
END:VTIMEZONE
BEGIN:VEVENT
DTSTART;TZID=America/Chicago:20250624T181500
DTEND;TZID=America/Chicago:20250624T210000
DTSTAMP:20260422T225651
CREATED:20250501T191326Z
LAST-MODIFIED:20250501T191326Z
UID:20065776-1750788900-1750798800@seward.coop
SUMMARY:Board of Directors June Meeting
DESCRIPTION:Meetings of Seward Co-op’s Board of Directors are open to any co-op owner. The next monthly board meeting is virtual and will be held Tuesday\, June 24. To indicate your intention to attend\, please email board@seward.coop prior to June 24. This will allow us to provide you the virtual meeting link. Captions are available upon request\, and if you have a need for other accommodations\, please include them in your email and we will do our best to meet them. \nSeward Co-op’s Board of Directors is comprised of nine elected co-op owners who serve the co-op for three-year terms. The board typically meets 9-10 times a year on the last Tuesday of the month\, at 6:15 p.m. The co-op’s board of directors appreciates hearing from you! They are available to answer questions and provide information about cooperative governance. \nThis meeting is preceded by an Information Session for owners interested in running for the board. To learn more click here.
URL:https://seward.coop/event/board-of-directors-june-meeting-6/
CATEGORIES:Board Meeting,Board of Directors
ATTACH;FMTTYPE=image/jpeg:https://seward.coop/wp-content/uploads/BOD_Meeting_square.jpg
END:VEVENT
END:VCALENDAR