BEGIN:VCALENDAR
VERSION:2.0
PRODID:-//Seward Community Co-op - ECPv6.15.20//NONSGML v1.0//EN
CALSCALE:GREGORIAN
METHOD:PUBLISH
X-WR-CALNAME:Seward Community Co-op
X-ORIGINAL-URL:https://seward.coop
X-WR-CALDESC:Events for Seward Community Co-op
REFRESH-INTERVAL;VALUE=DURATION:PT1H
X-Robots-Tag:noindex
X-PUBLISHED-TTL:PT1H
BEGIN:VTIMEZONE
TZID:America/Chicago
BEGIN:DAYLIGHT
TZOFFSETFROM:-0600
TZOFFSETTO:-0500
TZNAME:CDT
DTSTART:20200308T080000
END:DAYLIGHT
BEGIN:STANDARD
TZOFFSETFROM:-0500
TZOFFSETTO:-0600
TZNAME:CST
DTSTART:20201101T070000
END:STANDARD
BEGIN:DAYLIGHT
TZOFFSETFROM:-0600
TZOFFSETTO:-0500
TZNAME:CDT
DTSTART:20210314T080000
END:DAYLIGHT
BEGIN:STANDARD
TZOFFSETFROM:-0500
TZOFFSETTO:-0600
TZNAME:CST
DTSTART:20211107T070000
END:STANDARD
BEGIN:DAYLIGHT
TZOFFSETFROM:-0600
TZOFFSETTO:-0500
TZNAME:CDT
DTSTART:20220313T080000
END:DAYLIGHT
BEGIN:STANDARD
TZOFFSETFROM:-0500
TZOFFSETTO:-0600
TZNAME:CST
DTSTART:20221106T070000
END:STANDARD
END:VTIMEZONE
BEGIN:VEVENT
DTSTART;TZID=America/Chicago:20211130T180000
DTEND;TZID=America/Chicago:20211130T203000
DTSTAMP:20260425T224022
CREATED:20210929T153442Z
LAST-MODIFIED:20211124T010844Z
UID:20040211-1638295200-1638304200@seward.coop
SUMMARY:Board of Directors November Meeting
DESCRIPTION:Meetings of Seward Co-op’s Board of Directors are open to any co-op owner. The next monthly board meeting is virtual and will be held Tuesday\, Nov. 30. The meeting will include a 10-minute Co-op Owners Comment Period. The board of directors planned this in response to community members’ requests to address the board. Individual time allotment is dependent on number of owners who wish to speak. Agenda is available here. To indicate your intention to attend and/or participate in the Co-op Owners Comment Period\, please email board@seward.coop prior to Nov. 30. This will allow us to provide you the virtual meeting link. \nSeward Co-op’s Board of Directors is comprised of nine elected co-op owners who serve the co-op for three-year terms. The board typically meets 9-10 times a year on the last Tuesday of the month\, at 6:15 p.m. The co-op’s board of directors appreciates hearing from you! They are available to answer questions and provide information about cooperative governance.
URL:https://seward.coop/event/board-of-directors-november-meeting-2/
CATEGORIES:Board Meeting,Board of Directors
ATTACH;FMTTYPE=image/jpeg:https://seward.coop/wp-content/uploads/BOD_Meeting_square.jpg
END:VEVENT
END:VCALENDAR